BEGIN:VCALENDAR
VERSION:2.0
PRODID:-//LifeLine Animal Project - ECPv6.15.20//NONSGML v1.0//EN
CALSCALE:GREGORIAN
METHOD:PUBLISH
X-ORIGINAL-URL:https://lifelineanimal.org
X-WR-CALDESC:Events for LifeLine Animal Project
REFRESH-INTERVAL;VALUE=DURATION:PT1H
X-Robots-Tag:noindex
X-PUBLISHED-TTL:PT1H
BEGIN:VTIMEZONE
TZID:America/New_York
BEGIN:DAYLIGHT
TZOFFSETFROM:-0500
TZOFFSETTO:-0400
TZNAME:EDT
DTSTART:20240310T070000
END:DAYLIGHT
BEGIN:STANDARD
TZOFFSETFROM:-0400
TZOFFSETTO:-0500
TZNAME:EST
DTSTART:20241103T060000
END:STANDARD
BEGIN:DAYLIGHT
TZOFFSETFROM:-0500
TZOFFSETTO:-0400
TZNAME:EDT
DTSTART:20250309T070000
END:DAYLIGHT
BEGIN:STANDARD
TZOFFSETFROM:-0400
TZOFFSETTO:-0500
TZNAME:EST
DTSTART:20251102T060000
END:STANDARD
BEGIN:DAYLIGHT
TZOFFSETFROM:-0500
TZOFFSETTO:-0400
TZNAME:EDT
DTSTART:20260308T070000
END:DAYLIGHT
BEGIN:STANDARD
TZOFFSETFROM:-0400
TZOFFSETTO:-0500
TZNAME:EST
DTSTART:20261101T060000
END:STANDARD
BEGIN:DAYLIGHT
TZOFFSETFROM:-0500
TZOFFSETTO:-0400
TZNAME:EDT
DTSTART:20270314T070000
END:DAYLIGHT
BEGIN:STANDARD
TZOFFSETFROM:-0400
TZOFFSETTO:-0500
TZNAME:EST
DTSTART:20271107T060000
END:STANDARD
END:VTIMEZONE
BEGIN:VEVENT
DTSTART;TZID=America/New_York:20260328T140000
DTEND;TZID=America/New_York:20260328T160000
DTSTAMP:20260424T080616
CREATED:20260323T155921Z
LAST-MODIFIED:20260323T155921Z
UID:34004-1774706400-1774713600@lifelineanimal.org
SUMMARY:PetSmart (Tucker) Dog Adoption Event
DESCRIPTION:Stop by as we collaborate with PetSmart in Tucker for a Dog Adoption Event! All family members are welcome to join\, including any four-legged ones. We are offering dog adoptions with different adoptable pets present throughout the event from 2:00 PM – 4:00 PM onsite at PetSmart (4023 Lavista Rd\, Tucker\, GA 30084). All adoptions include spay/neuter\, microchip\, rabies vaccine and more! \nTo learn more and view all of our adoptable pets\, get started here.
URL:https://lifelineanimal.org/events/petsmart-tucker-dog-adoption-event-2/2026-03-28/
LOCATION:PetSmart Tucker\, 4023 Lavista Rd\, Tucker\, GA\, 30084\, United States
CATEGORIES:Adoption
ATTACH;FMTTYPE=image/png:https://lifelineanimal.org/wp-content/uploads/2026/03/event-image-3-2.png
END:VEVENT
BEGIN:VEVENT
DTSTART;TZID=America/New_York:20260228T140000
DTEND;TZID=America/New_York:20260228T160000
DTSTAMP:20260424T080616
CREATED:20260202T165811Z
LAST-MODIFIED:20260202T165811Z
UID:33410-1772287200-1772294400@lifelineanimal.org
SUMMARY:PetSmart (Tucker) Dog Adoption Event
DESCRIPTION:Stop by as we collaborate with PetSmart in Tucker for a Dog Adoption Event! All family members are welcome to join\, including any four-legged ones. We are offering dog adoptions with different adoptable pets present throughout the event from 2:00 PM – 4:00 PM onsite at PetSmart (4023 Lavista Rd\, Tucker\, GA 30084). All adoptions include spay/neuter\, microchip\, rabies vaccine and more! \nTo learn more and view all of our adoptable pets\, get started here.
URL:https://lifelineanimal.org/events/petsmart-tucker-dog-adoption-event/2026-02-28/
LOCATION:PetSmart Tucker\, 4023 Lavista Rd\, Tucker\, GA\, 30084\, United States
CATEGORIES:Adoption
ATTACH;FMTTYPE=image/png:https://lifelineanimal.org/wp-content/uploads/2026/02/event-image-5.png
END:VEVENT
BEGIN:VEVENT
DTSTART;TZID=America/New_York:20260124T140000
DTEND;TZID=America/New_York:20260124T160000
DTSTAMP:20260424T080616
CREATED:20260105T154911Z
LAST-MODIFIED:20260121T162930Z
UID:33079-1769263200-1769270400@lifelineanimal.org
SUMMARY:CANCELED: PetSmart (Tucker) Dog Adoption Event
DESCRIPTION:Note: This event has been canceled due to inclement weather.  \nStop by as we collaborate with PetSmart in Tucker for a Dog Adoption Event! All family members are welcome to join\, including any four-legged ones. We are offering dog adoptions with different adoptable pets present throughout the event from 2:00 PM – 4:00 PM onsite at PetSmart (4023 Lavista Rd\, Tucker\, GA 30084). All adoptions include spay/neuter\, microchip\, rabies vaccine and more! \nTo learn more and view all of our adoptable pets\, get started here.
URL:https://lifelineanimal.org/events/petsmart-tucker-dog-adoption-event-7/
LOCATION:PetSmart Tucker\, 4023 Lavista Rd\, Tucker\, GA\, 30084\, United States
CATEGORIES:Adoption
ATTACH;FMTTYPE=image/png:https://lifelineanimal.org/wp-content/uploads/2026/01/event-image-3.png
END:VEVENT
BEGIN:VEVENT
DTSTART;TZID=America/New_York:20250628T140000
DTEND;TZID=America/New_York:20250628T160000
DTSTAMP:20260424T080616
CREATED:20250519T155807Z
LAST-MODIFIED:20250519T155807Z
UID:30659-1751119200-1751126400@lifelineanimal.org
SUMMARY:PetSmart (Tucker) Dog Adoption Event
DESCRIPTION:Stop by as we collaborate with PetSmart in Tucker for a Dog Adoption Event! All family members are welcome to join\, including any four-legged ones. We are offering dog adoptions with different adoptable pets present throughout the event from 2:00 PM – 4:00 PM onsite at PetSmart (4023 Lavista Rd\, Tucker\, GA 30084). All adoptions include spay/neuter\, microchip\, rabies vaccine and more! \nTo learn more and view all of our adoptable pets\, get started here.
URL:https://lifelineanimal.org/events/petsmart-tucker-dog-adoption-event-6/2025-06-28/
LOCATION:PetSmart Tucker\, 4023 Lavista Rd\, Tucker\, GA\, 30084\, United States
CATEGORIES:Adoption
ATTACH;FMTTYPE=image/png:https://lifelineanimal.org/wp-content/uploads/2025/05/event-image-4-3.png
END:VEVENT
BEGIN:VEVENT
DTSTART;TZID=America/New_York:20250524T140000
DTEND;TZID=America/New_York:20250524T160000
DTSTAMP:20260424T080616
CREATED:20250428T154658Z
LAST-MODIFIED:20250428T154658Z
UID:30402-1748095200-1748102400@lifelineanimal.org
SUMMARY:PetSmart (Tucker) Dog Adoption Event
DESCRIPTION:Stop by as we collaborate with PetSmart in Tucker for a Dog Adoption Event! All family members are welcome to join\, including any four-legged ones. We are offering dog adoptions with different adoptable pets present throughout the event from 2:00 PM – 4:00 PM onsite at PetSmart (4023 Lavista Rd\, Tucker\, GA 30084). All adoptions include spay/neuter\, microchip\, rabies vaccine and more! \nTo learn more and view all of our adoptable pets\, get started here.
URL:https://lifelineanimal.org/events/petsmart-tucker-dog-adoption-event-5/
LOCATION:PetSmart Tucker\, 4023 Lavista Rd\, Tucker\, GA\, 30084\, United States
CATEGORIES:Adoption
ATTACH;FMTTYPE=image/png:https://lifelineanimal.org/wp-content/uploads/2025/04/event-image-3-1.png
END:VEVENT
BEGIN:VEVENT
DTSTART;TZID=America/New_York:20250426T140000
DTEND;TZID=America/New_York:20250426T160000
DTSTAMP:20260424T080616
CREATED:20250325T194647Z
LAST-MODIFIED:20250325T194647Z
UID:30017-1745676000-1745683200@lifelineanimal.org
SUMMARY:PetSmart (Tucker) Dog Adoption Event
DESCRIPTION:Stop by as we collaborate with PetSmart in Tucker for a Dog Adoption Event! All family members are welcome to join\, including any four-legged ones. We are offering dog adoptions with different adoptable pets present throughout the event from 2:00 PM – 4:00 PM onsite at PetSmart (4023 Lavista Rd\, Tucker\, GA 30084). All adoptions include spay/neuter\, microchip\, rabies vaccine and more! \nTo learn more and view all of our adoptable pets\, get started here.
URL:https://lifelineanimal.org/events/petsmart-tucker-dog-adoption-event-4/
LOCATION:PetSmart Tucker\, 4023 Lavista Rd\, Tucker\, GA\, 30084\, United States
CATEGORIES:Adoption
ATTACH;FMTTYPE=image/png:https://lifelineanimal.org/wp-content/uploads/2025/03/event-image-3.png
END:VEVENT
END:VCALENDAR