BEGIN:VCALENDAR
VERSION:2.0
PRODID:-//LifeLine Animal Project - ECPv6.15.20//NONSGML v1.0//EN
CALSCALE:GREGORIAN
METHOD:PUBLISH
X-ORIGINAL-URL:https://lifelineanimal.org
X-WR-CALDESC:Events for LifeLine Animal Project
REFRESH-INTERVAL;VALUE=DURATION:PT1H
X-Robots-Tag:noindex
X-PUBLISHED-TTL:PT1H
BEGIN:VTIMEZONE
TZID:America/New_York
BEGIN:DAYLIGHT
TZOFFSETFROM:-0500
TZOFFSETTO:-0400
TZNAME:EDT
DTSTART:20240310T070000
END:DAYLIGHT
BEGIN:STANDARD
TZOFFSETFROM:-0400
TZOFFSETTO:-0500
TZNAME:EST
DTSTART:20241103T060000
END:STANDARD
BEGIN:DAYLIGHT
TZOFFSETFROM:-0500
TZOFFSETTO:-0400
TZNAME:EDT
DTSTART:20250309T070000
END:DAYLIGHT
BEGIN:STANDARD
TZOFFSETFROM:-0400
TZOFFSETTO:-0500
TZNAME:EST
DTSTART:20251102T060000
END:STANDARD
BEGIN:DAYLIGHT
TZOFFSETFROM:-0500
TZOFFSETTO:-0400
TZNAME:EDT
DTSTART:20260308T070000
END:DAYLIGHT
BEGIN:STANDARD
TZOFFSETFROM:-0400
TZOFFSETTO:-0500
TZNAME:EST
DTSTART:20261101T060000
END:STANDARD
BEGIN:DAYLIGHT
TZOFFSETFROM:-0500
TZOFFSETTO:-0400
TZNAME:EDT
DTSTART:20270314T070000
END:DAYLIGHT
BEGIN:STANDARD
TZOFFSETFROM:-0400
TZOFFSETTO:-0500
TZNAME:EST
DTSTART:20271107T060000
END:STANDARD
END:VTIMEZONE
BEGIN:VEVENT
DTSTART;TZID=America/New_York:20260322T100000
DTEND;TZID=America/New_York:20260322T120000
DTSTAMP:20260424T120423
CREATED:20260319T140118Z
LAST-MODIFIED:20260319T140118Z
UID:33993-1774173600-1774180800@lifelineanimal.org
SUMMARY:PetSmart (Roswell) Dog Adoption Event
DESCRIPTION:Stop by as we collaborate with PetSmart in Roswell for a Dog Adoption Event! All family members are welcome to join\, including any four-legged ones. We are offering dog adoptions with different adoptable pets present throughout the event from 10:00 AM – 12:00 PM onsite at PetSmart (625 W Crossville Rd Ste 134\, Roswell\, GA 30075). All adoptions include spay/neuter\, microchip\, rabies vaccine and more! \nTo learn more and view all of our adoptable pets\, get started here.
URL:https://lifelineanimal.org/events/petsmart-roswell-dog-adoption-event-2/2026-03-22/
LOCATION:PetSmart (Roswell)\, 625 W Crossville Rd Ste 134\, Roswell\, GA\, 30075\, United States
CATEGORIES:Adoption
ATTACH;FMTTYPE=image/png:https://lifelineanimal.org/wp-content/uploads/2026/03/event-image-4-1.png
END:VEVENT
BEGIN:VEVENT
DTSTART;TZID=America/New_York:20260222T100000
DTEND;TZID=America/New_York:20260222T120000
DTSTAMP:20260424T120423
CREATED:20260202T161042Z
LAST-MODIFIED:20260202T161042Z
UID:33397-1771754400-1771761600@lifelineanimal.org
SUMMARY:PetSmart (Roswell) Dog Adoption Event
DESCRIPTION:Stop by as we collaborate with PetSmart in Roswell for a Dog Adoption Event! All family members are welcome to join\, including any four-legged ones. We are offering dog adoptions with different adoptable pets present throughout the event from 10:00 AM – 12:00 PM onsite at PetSmart (625 W Crossville Rd Ste 134\, Roswell\, GA 30075). All adoptions include spay/neuter\, microchip\, rabies vaccine and more! \nTo learn more and view all of our adoptable pets\, get started here.
URL:https://lifelineanimal.org/events/petsmart-roswell-dog-adoption-event-8/2026-02-22/
LOCATION:PetSmart (Roswell)\, 625 W Crossville Rd Ste 134\, Roswell\, GA\, 30075\, United States
CATEGORIES:Adoption
ATTACH;FMTTYPE=image/png:https://lifelineanimal.org/wp-content/uploads/2026/01/event-image-3-1.png
END:VEVENT
BEGIN:VEVENT
DTSTART;TZID=America/New_York:20260125T100000
DTEND;TZID=America/New_York:20260125T120000
DTSTAMP:20260424T120423
CREATED:20260105T160207Z
LAST-MODIFIED:20260121T163157Z
UID:33082-1769335200-1769342400@lifelineanimal.org
SUMMARY:CANCELED: PetSmart (Roswell) Dog Adoption Event
DESCRIPTION:Note: This event has been canceled due to inclement weather.  \nStop by as we collaborate with PetSmart in Roswell for a Dog Adoption Event! All family members are welcome to join\, including any four-legged ones. We are offering dog adoptions with different adoptable pets present throughout the event from 10:00 AM – 12:00 PM onsite at PetSmart (625 W Crossville Rd Ste 134\, Roswell\, GA 30075). All adoptions include spay/neuter\, microchip\, rabies vaccine and more! \nTo learn more and view all of our adoptable pets\, get started here.
URL:https://lifelineanimal.org/events/petsmart-roswell-dog-adoption-event/
LOCATION:PetSmart (Roswell)\, 625 W Crossville Rd Ste 134\, Roswell\, GA\, 30075\, United States
CATEGORIES:Adoption
ATTACH;FMTTYPE=image/png:https://lifelineanimal.org/wp-content/uploads/2026/01/event-image-4.png
END:VEVENT
BEGIN:VEVENT
DTSTART;TZID=America/New_York:20250629T100000
DTEND;TZID=America/New_York:20250629T120000
DTSTAMP:20260424T120423
CREATED:20250519T161208Z
LAST-MODIFIED:20251123T160121Z
UID:30666-1751191200-1751198400@lifelineanimal.org
SUMMARY:PetSmart (Roswell) Dog Adoption Event
DESCRIPTION:Stop by as we collaborate with PetSmart in Roswell for a Dog Adoption Event! All family members are welcome to join\, including any four-legged ones. We are offering dog adoptions with different adoptable pets present throughout the event from 10:00 AM – 12:00 PM onsite at PetSmart (625 W Crossville Rd Ste 134\, Roswell\, GA 30075). All adoptions include spay/neuter\, microchip\, rabies vaccine and more! \nTo learn more and view all of our adoptable pets\, get started here.
URL:https://lifelineanimal.org/events/petsmart-roswell-dog-adoption-event-7/2025-06-29/
LOCATION:PetSmart (Roswell)\, 625 W Crossville Rd Ste 134\, Roswell\, GA\, 30075\, United States
CATEGORIES:Adoption
ATTACH;FMTTYPE=image/png:https://lifelineanimal.org/wp-content/uploads/2025/05/event-image-5-2.png
END:VEVENT
BEGIN:VEVENT
DTSTART;TZID=America/New_York:20250525T100000
DTEND;TZID=America/New_York:20250525T120000
DTSTAMP:20260424T120423
CREATED:20250428T160058Z
LAST-MODIFIED:20250428T160058Z
UID:30405-1748167200-1748174400@lifelineanimal.org
SUMMARY:PetSmart (Roswell) Dog Adoption Event
DESCRIPTION:Stop by as we collaborate with PetSmart in Roswell for a Dog Adoption Event! All family members are welcome to join\, including any four-legged ones. We are offering dog adoptions with different adoptable pets present throughout the event from 10:00 AM – 12:00 PM onsite at PetSmart (625 W Crossville Rd Ste 134\, Roswell\, GA 30075). All adoptions include spay/neuter\, microchip\, rabies vaccine and more! \nTo learn more and view all of our adoptable pets\, get started here.
URL:https://lifelineanimal.org/events/petsmart-roswell-dog-adoption-event-6/
LOCATION:PetSmart (Roswell)\, 625 W Crossville Rd Ste 134\, Roswell\, GA\, 30075\, United States
CATEGORIES:Adoption
ATTACH;FMTTYPE=image/png:https://lifelineanimal.org/wp-content/uploads/2025/04/event-image-4-2.png
END:VEVENT
BEGIN:VEVENT
DTSTART;TZID=America/New_York:20250427T100000
DTEND;TZID=America/New_York:20250427T120000
DTSTAMP:20260424T120423
CREATED:20250325T200401Z
LAST-MODIFIED:20250325T200401Z
UID:30019-1745748000-1745755200@lifelineanimal.org
SUMMARY:PetSmart (Roswell) Dog Adoption Event
DESCRIPTION:Stop by as we collaborate with PetSmart in Roswell for a Dog Adoption Event! All family members are welcome to join\, including any four-legged ones. We are offering dog adoptions with different adoptable pets present throughout the event from 10:00 AM – 12:00 PM onsite at PetSmart (625 W Crossville Rd Ste 134\, Roswell\, GA 30075). All adoptions include spay/neuter\, microchip\, rabies vaccine and more! \nTo learn more and view all of our adoptable pets\, get started here.
URL:https://lifelineanimal.org/events/petsmart-roswell-dog-adoption-event-5/
LOCATION:PetSmart (Roswell)\, 625 W Crossville Rd Ste 134\, Roswell\, GA\, 30075\, United States
CATEGORIES:Adoption
ATTACH;FMTTYPE=image/png:https://lifelineanimal.org/wp-content/uploads/2025/03/event-image-4.png
END:VEVENT
END:VCALENDAR